Package: sarks Version: 1.4.0 Command: /home/biocbuild/bbs-3.13-bioc/R/bin/R CMD build --keep-empty-dirs --no-resave-data sarks StartedAt: 2021-10-14 08:18:04 -0400 (Thu, 14 Oct 2021) EndedAt: 2021-10-14 08:18:26 -0400 (Thu, 14 Oct 2021) EllapsedTime: 21.5 seconds RetCode: 0 Status: OK PackageFile: sarks_1.4.0.tar.gz PackageFileSize: 460.8 KiB