Package: samExploreR Version: 1.16.0 Command: /home/biocbuild/bbs-3.13-bioc/R/bin/R CMD build --keep-empty-dirs --no-resave-data samExploreR StartedAt: 2021-10-14 08:17:47 -0400 (Thu, 14 Oct 2021) EndedAt: 2021-10-14 08:17:57 -0400 (Thu, 14 Oct 2021) EllapsedTime: 10.5 seconds RetCode: 1 Status: ERROR PackageFile: None PackageFileSize: NA