Package: samExploreR Version: 1.16.0 Command: /Library/Frameworks/R.framework/Versions/Current/Resources/bin/R CMD INSTALL samExploreR StartedAt: 2021-10-14 08:58:04 -0400 (Thu, 14 Oct 2021) EndedAt: 2021-10-14 08:59:09 -0400 (Thu, 14 Oct 2021) EllapsedTime: 64.2 seconds RetCode: 0 Status: OK