Package: safe Version: 3.32.0 Command: /Library/Frameworks/R.framework/Versions/Current/Resources/bin/R CMD check --install=check:safe.install-out.txt --library=/Library/Frameworks/R.framework/Versions/Current/Resources/library --no-vignettes --timings safe_3.32.0.tar.gz StartedAt: 2021-10-14 23:30:31 -0400 (Thu, 14 Oct 2021) EndedAt: 2021-10-14 23:32:34 -0400 (Thu, 14 Oct 2021) EllapsedTime: 123.0 seconds RetCode: 0 Status: OK CheckDir: safe.Rcheck Warnings: 0