git_url: https://git.bioconductor.org/packages/rsbml git_branch: RELEASE_3_13 git_last_commit: 84b2f61 git_last_commit_date: 2021-05-19 11:39:45 -0400 (Wed, 19 May 2021) Package: rsbml Version: 2.50.0 Maintainer: Michael Lawrence MaintainerEmail: michafla at gene.com