Package: roar Version: 1.28.0 Command: /home/biocbuild/bbs-3.13-bioc/R/bin/R CMD INSTALL roar StartedAt: 2021-10-14 06:22:51 -0400 (Thu, 14 Oct 2021) EndedAt: 2021-10-14 06:23:19 -0400 (Thu, 14 Oct 2021) EllapsedTime: 28.5 seconds RetCode: 0 Status: OK