Package: rnaseqcomp Version: 1.22.0 Command: /Library/Frameworks/R.framework/Versions/Current/Resources/bin/R CMD check --install=check:rnaseqcomp.install-out.txt --library=/Library/Frameworks/R.framework/Versions/Current/Resources/library --no-vignettes --timings rnaseqcomp_1.22.0.tar.gz StartedAt: 2021-10-14 23:18:20 -0400 (Thu, 14 Oct 2021) EndedAt: 2021-10-14 23:19:12 -0400 (Thu, 14 Oct 2021) EllapsedTime: 51.4 seconds RetCode: 0 Status: OK CheckDir: rnaseqcomp.Rcheck Warnings: 0