Package: ribor Version: 1.4.0 Command: /Library/Frameworks/R.framework/Versions/Current/Resources/bin/R CMD build --keep-empty-dirs --no-resave-data ribor StartedAt: 2021-10-14 14:23:20 -0400 (Thu, 14 Oct 2021) EndedAt: 2021-10-14 14:24:35 -0400 (Thu, 14 Oct 2021) EllapsedTime: 75.1 seconds RetCode: 0 Status: OK PackageFile: ribor_1.4.0.tar.gz PackageFileSize: 4.268 MiB