git_url: https://git.bioconductor.org/packages/ribor git_branch: RELEASE_3_13 git_last_commit: ca9bd2a git_last_commit_date: 2021-05-19 12:50:02 -0400 (Wed, 19 May 2021) Package: ribor Version: 1.4.0 Maintainer: Michael Geng MaintainerEmail: michaelgeng at utexas.edu