Package: riboSeqR Version: 1.26.0 Command: /home/biocbuild/bbs-3.13-bioc/R/bin/R CMD INSTALL riboSeqR StartedAt: 2021-10-14 06:12:26 -0400 (Thu, 14 Oct 2021) EndedAt: 2021-10-14 06:12:41 -0400 (Thu, 14 Oct 2021) EllapsedTime: 14.9 seconds RetCode: 0 Status: OK