Package: riboSeqR Version: 1.26.0 Command: /home/biocbuild/bbs-3.13-bioc/R/bin/R CMD build --keep-empty-dirs --no-resave-data riboSeqR StartedAt: 2021-10-14 08:12:50 -0400 (Thu, 14 Oct 2021) EndedAt: 2021-10-14 08:13:13 -0400 (Thu, 14 Oct 2021) EllapsedTime: 22.6 seconds RetCode: 0 Status: OK PackageFile: riboSeqR_1.26.0.tar.gz PackageFileSize: 3.644 MiB