Package: rhdf5client
Version: 1.14.2
Command: C:\cygwin\bin\curl.exe -O http://155.52.207.165/BBS/3.13/bioc/src/contrib/rhdf5client_1.14.2.tar.gz && rm -rf rhdf5client.buildbin-libdir && mkdir rhdf5client.buildbin-libdir && C:\Users\biocbuild\bbs-3.13-bioc\R\bin\R.exe CMD INSTALL --merge-multiarch --build --library=rhdf5client.buildbin-libdir rhdf5client_1.14.2.tar.gz && C:\Users\biocbuild\bbs-3.13-bioc\R\bin\R.exe CMD INSTALL rhdf5client_1.14.2.zip && rm rhdf5client_1.14.2.tar.gz rhdf5client_1.14.2.zip
StartedAt: 2021-10-14 08:42:43 -0400 (Thu, 14 Oct 2021)
EndedAt: 2021-10-14 08:43:32 -0400 (Thu, 14 Oct 2021)
EllapsedTime: 49.0 seconds
RetCode: 0
Status: OK