Package: rhdf5client Version: 1.14.2 Command: /Library/Frameworks/R.framework/Versions/Current/Resources/bin/R CMD check --install=check:rhdf5client.install-out.txt --library=/Library/Frameworks/R.framework/Versions/Current/Resources/library --no-vignettes --timings rhdf5client_1.14.2.tar.gz StartedAt: 2021-10-14 23:10:45 -0400 (Thu, 14 Oct 2021) EndedAt: 2021-10-14 23:13:35 -0400 (Thu, 14 Oct 2021) EllapsedTime: 170.6 seconds RetCode: 0 Status: OK CheckDir: rhdf5client.Rcheck Warnings: 0