Package: rhdf5 Version: 2.36.0 Command: C:\cygwin\bin\curl.exe -O http://155.52.207.165/BBS/3.13/bioc/src/contrib/rhdf5_2.36.0.tar.gz && rm -rf rhdf5.buildbin-libdir && mkdir rhdf5.buildbin-libdir && C:\Users\biocbuild\bbs-3.13-bioc\R\bin\R.exe CMD INSTALL --merge-multiarch --build --library=rhdf5.buildbin-libdir rhdf5_2.36.0.tar.gz && C:\Users\biocbuild\bbs-3.13-bioc\R\bin\R.exe CMD INSTALL rhdf5_2.36.0.zip && rm rhdf5_2.36.0.tar.gz rhdf5_2.36.0.zip StartedAt: 2021-10-14 07:15:33 -0400 (Thu, 14 Oct 2021) EndedAt: 2021-10-14 07:18:43 -0400 (Thu, 14 Oct 2021) EllapsedTime: 190.0 seconds RetCode: 0 Status: OK