Package: rgsepd Version: 1.24.0 Command: /home/biocbuild/bbs-3.13-bioc/R/bin/R CMD INSTALL rgsepd StartedAt: 2021-10-14 06:26:20 -0400 (Thu, 14 Oct 2021) EndedAt: 2021-10-14 06:27:19 -0400 (Thu, 14 Oct 2021) EllapsedTime: 58.7 seconds RetCode: 0 Status: OK