Package: rfaRm Version: 1.4.3 Command: /home/biocbuild/bbs-3.13-bioc/R/bin/R CMD check --install=check:rfaRm.install-out.txt --library=/home/biocbuild/bbs-3.13-bioc/R/library --no-vignettes --timings rfaRm_1.4.3.tar.gz StartedAt: 2021-10-14 11:17:57 -0400 (Thu, 14 Oct 2021) EndedAt: 2021-10-14 11:23:07 -0400 (Thu, 14 Oct 2021) EllapsedTime: 310.1 seconds RetCode: 0 Status: OK CheckDir: rfaRm.Rcheck Warnings: 0