Package: rfaRm Version: 1.4.3 Command: /home/biocbuild/bbs-3.13-bioc/R/bin/R CMD build --keep-empty-dirs --no-resave-data rfaRm StartedAt: 2021-10-14 08:11:27 -0400 (Thu, 14 Oct 2021) EndedAt: 2021-10-14 08:14:00 -0400 (Thu, 14 Oct 2021) EllapsedTime: 153.4 seconds RetCode: 0 Status: OK PackageFile: rfaRm_1.4.3.tar.gz PackageFileSize: 586.9 KiB