Package: rfaRm Version: 1.4.3 Command: rm -rf rfaRm.buildbin-libdir && mkdir rfaRm.buildbin-libdir && /Users/biocbuild/BBS/utils/build-universal.sh rfaRm_1.4.3.tar.gz /Library/Frameworks/R.framework/Versions/Current/Resources/bin/R rfaRm.buildbin-libdir StartedAt: 2021-10-15 03:43:15 -0400 (Fri, 15 Oct 2021) EndedAt: 2021-10-15 03:45:28 -0400 (Fri, 15 Oct 2021) EllapsedTime: 133.8 seconds RetCode: 0 Status: OK PackageFile: rfaRm_1.4.3.tgz PackageFileSize: 549.3 KiB