Package: regutools Version: 1.4.0 Command: /home/biocbuild/bbs-3.13-bioc/R/bin/R CMD INSTALL regutools StartedAt: 2021-10-14 06:34:00 -0400 (Thu, 14 Oct 2021) EndedAt: 2021-10-14 06:34:45 -0400 (Thu, 14 Oct 2021) EllapsedTime: 44.4 seconds RetCode: 0 Status: OK