Package: regionReport Version: 1.26.0 Command: C:\Users\biocbuild\bbs-3.13-bioc\R\bin\R.exe CMD check --force-multiarch --install=check:regionReport.install-out.txt --library=C:\Users\biocbuild\bbs-3.13-bioc\R\library --no-vignettes --timings regionReport_1.26.0.tar.gz StartedAt: 2021-10-15 04:19:56 -0400 (Fri, 15 Oct 2021) EndedAt: 2021-10-15 04:36:22 -0400 (Fri, 15 Oct 2021) EllapsedTime: 986.4 seconds RetCode: 0 Status: OK CheckDir: regionReport.Rcheck Warnings: 0