Package: regionReport Version: 1.26.0 Command: /Library/Frameworks/R.framework/Versions/Current/Resources/bin/R CMD build --keep-empty-dirs --no-resave-data regionReport StartedAt: 2021-10-14 14:18:41 -0400 (Thu, 14 Oct 2021) EndedAt: 2021-10-14 14:19:57 -0400 (Thu, 14 Oct 2021) EllapsedTime: 75.9 seconds RetCode: 0 Status: OK PackageFile: regionReport_1.26.0.tar.gz PackageFileSize: 614.1 KiB