git_url: https://git.bioconductor.org/packages/recoup git_branch: RELEASE_3_13 git_last_commit: ab6d090 git_last_commit_date: 2021-10-06 15:09:30 -0400 (Wed, 06 Oct 2021) Package: recoup Version: 1.20.1 Maintainer: Panagiotis Moulos MaintainerEmail: moulos at fleming.gr