Package: recount3 Version: 1.2.6 Command: /Library/Frameworks/R.framework/Versions/Current/Resources/bin/R CMD build --keep-empty-dirs --no-resave-data recount3 StartedAt: 2021-10-14 14:17:57 -0400 (Thu, 14 Oct 2021) EndedAt: 2021-10-14 14:20:47 -0400 (Thu, 14 Oct 2021) EllapsedTime: 169.2 seconds RetCode: 0 Status: OK PackageFile: recount3_1.2.6.tar.gz PackageFileSize: 537.8 KiB