Package: recount Version: 1.18.1 Command: chmod a+r recount -R && C:\Users\biocbuild\bbs-3.13-bioc\R\bin\R.exe CMD build --keep-empty-dirs --no-resave-data recount StartedAt: 2021-10-14 17:30:17 -0400 (Thu, 14 Oct 2021) EndedAt: 2021-10-14 17:39:24 -0400 (Thu, 14 Oct 2021) EllapsedTime: 547.7 seconds RetCode: 0 Status: OK PackageFile: recount_1.18.1.tar.gz PackageFileSize: 6.813 MiB