Package: receptLoss Version: 1.4.0 Command: C:\cygwin\bin\curl.exe -O http://155.52.207.165/BBS/3.13/bioc/src/contrib/receptLoss_1.4.0.tar.gz && rm -rf receptLoss.buildbin-libdir && mkdir receptLoss.buildbin-libdir && C:\Users\biocbuild\bbs-3.13-bioc\R\bin\R.exe CMD INSTALL --merge-multiarch --build --library=receptLoss.buildbin-libdir receptLoss_1.4.0.tar.gz && C:\Users\biocbuild\bbs-3.13-bioc\R\bin\R.exe CMD INSTALL receptLoss_1.4.0.zip && rm receptLoss_1.4.0.tar.gz receptLoss_1.4.0.zip StartedAt: 2021-10-14 10:06:37 -0400 (Thu, 14 Oct 2021) EndedAt: 2021-10-14 10:10:17 -0400 (Thu, 14 Oct 2021) EllapsedTime: 220.9 seconds RetCode: 0 Status: OK