############################################################################## ############################################################################## ### ### Running command: ### ### C:\cygwin\bin\curl.exe -O http://155.52.207.165/BBS/3.13/bioc/src/contrib/receptLoss_1.4.0.tar.gz && rm -rf receptLoss.buildbin-libdir && mkdir receptLoss.buildbin-libdir && C:\Users\biocbuild\bbs-3.13-bioc\R\bin\R.exe CMD INSTALL --merge-multiarch --build --library=receptLoss.buildbin-libdir receptLoss_1.4.0.tar.gz && C:\Users\biocbuild\bbs-3.13-bioc\R\bin\R.exe CMD INSTALL receptLoss_1.4.0.zip && rm receptLoss_1.4.0.tar.gz receptLoss_1.4.0.zip ### ############################################################################## ############################################################################## % Total % Received % Xferd Average Speed Time Time Time Current Dload Upload Total Spent Left Speed 0 0 0 0 0 0 0 0 --:--:-- --:--:-- --:--:-- 0 69 664k 69 458k 0 0 888k 0 --:--:-- --:--:-- --:--:-- 889k 100 664k 100 664k 0 0 958k 0 --:--:-- --:--:-- --:--:-- 959k install for i386 * installing *source* package 'receptLoss' ... ** using staged installation ** R ** data *** moving datasets to lazyload DB ** byte-compile and prepare package for lazy loading ** help *** installing help indices converting help for package 'receptLoss' finding HTML links ... done nSdBelowMean html nhrs html plotReceptLoss html receptLoss html toMatrix html ** building package indices ** installing vignettes ** testing if installed package can be loaded from temporary location ** testing if installed package can be loaded from final location ** testing if installed package keeps a record of temporary installation path install for x64 * installing *source* package 'receptLoss' ... ** testing if installed package can be loaded * MD5 sums packaged installation of 'receptLoss' as receptLoss_1.4.0.zip * DONE (receptLoss) * installing to library 'C:/Users/biocbuild/bbs-3.13-bioc/R/library' package 'receptLoss' successfully unpacked and MD5 sums checked