Package: rebook Version: 1.2.1 Command: C:\Users\biocbuild\bbs-3.13-bioc\R\bin\R.exe CMD check --force-multiarch --install=check:rebook.install-out.txt --library=C:\Users\biocbuild\bbs-3.13-bioc\R\library --no-vignettes --timings rebook_1.2.1.tar.gz StartedAt: 2021-10-15 04:16:17 -0400 (Fri, 15 Oct 2021) EndedAt: 2021-10-15 04:20:43 -0400 (Fri, 15 Oct 2021) EllapsedTime: 266.4 seconds RetCode: 0 Status: WARNINGS CheckDir: rebook.Rcheck Warnings: 2