Package: rebook Version: 1.2.1 Command: chmod a+r rebook -R && C:\Users\biocbuild\bbs-3.13-bioc\R\bin\R.exe CMD build --keep-empty-dirs --no-resave-data rebook StartedAt: 2021-10-14 17:29:52 -0400 (Thu, 14 Oct 2021) EndedAt: 2021-10-14 17:31:04 -0400 (Thu, 14 Oct 2021) EllapsedTime: 72.0 seconds RetCode: 0 Status: OK PackageFile: rebook_1.2.1.tar.gz PackageFileSize: 262.3 KiB