Package: rcellminer Version: 2.14.0 Command: rm -rf rcellminer.buildbin-libdir && mkdir rcellminer.buildbin-libdir && /Users/biocbuild/BBS/utils/build-universal.sh rcellminer_2.14.0.tar.gz /Library/Frameworks/R.framework/Versions/Current/Resources/bin/R rcellminer.buildbin-libdir StartedAt: 2021-10-15 03:39:31 -0400 (Fri, 15 Oct 2021) EndedAt: 2021-10-15 03:40:25 -0400 (Fri, 15 Oct 2021) EllapsedTime: 53.5 seconds RetCode: 0 Status: OK PackageFile: rcellminer_2.14.0.tgz PackageFileSize: 2.322 MiB