Package: rbsurv Version: 2.50.0 Command: rm -rf rbsurv.buildbin-libdir && mkdir rbsurv.buildbin-libdir && C:\Users\biocbuild\bbs-3.13-bioc\R\bin\R.exe CMD INSTALL --merge-multiarch --build --library=rbsurv.buildbin-libdir rbsurv_2.50.0.tar.gz StartedAt: 2021-10-15 11:15:34 -0400 (Fri, 15 Oct 2021) EndedAt: 2021-10-15 11:16:41 -0400 (Fri, 15 Oct 2021) EllapsedTime: 67.1 seconds RetCode: 0 Status: OK PackageFile: rbsurv_2.50.0.zip PackageFileSize: 282.4 KiB