Package: rbsurv Version: 2.50.0 Command: /home/biocbuild/bbs-3.13-bioc/R/bin/R CMD build --keep-empty-dirs --no-resave-data rbsurv StartedAt: 2021-10-14 08:08:59 -0400 (Thu, 14 Oct 2021) EndedAt: 2021-10-14 08:09:26 -0400 (Thu, 14 Oct 2021) EllapsedTime: 26.9 seconds RetCode: 0 Status: OK PackageFile: rbsurv_2.50.0.tar.gz PackageFileSize: 253.2 KiB