Package: rawrr Version: 1.0.3 Command: rm -rf rawrr.buildbin-libdir && mkdir rawrr.buildbin-libdir && C:\Users\biocbuild\bbs-3.13-bioc\R\bin\R.exe CMD INSTALL --merge-multiarch --build --library=rawrr.buildbin-libdir rawrr_1.0.3.tar.gz StartedAt: 2021-10-15 11:14:15 -0400 (Fri, 15 Oct 2021) EndedAt: 2021-10-15 11:15:50 -0400 (Fri, 15 Oct 2021) EllapsedTime: 94.9 seconds RetCode: 0 Status: OK PackageFile: rawrr_1.0.3.zip PackageFileSize: 1.336 MiB