Package: randRotation Version: 1.4.0 Command: rm -rf randRotation.buildbin-libdir && mkdir randRotation.buildbin-libdir && C:\Users\biocbuild\bbs-3.13-bioc\R\bin\R.exe CMD INSTALL --merge-multiarch --build --library=randRotation.buildbin-libdir randRotation_1.4.0.tar.gz StartedAt: 2021-10-15 11:13:49 -0400 (Fri, 15 Oct 2021) EndedAt: 2021-10-15 11:15:26 -0400 (Fri, 15 Oct 2021) EllapsedTime: 96.3 seconds RetCode: 0 Status: OK PackageFile: randRotation_1.4.0.zip PackageFileSize: 1.143 MiB