Package: randRotation Version: 1.4.0 Command: /home/biocbuild/bbs-3.13-bioc/R/bin/R CMD INSTALL randRotation StartedAt: 2021-10-14 06:04:03 -0400 (Thu, 14 Oct 2021) EndedAt: 2021-10-14 06:04:15 -0400 (Thu, 14 Oct 2021) EllapsedTime: 11.8 seconds RetCode: 0 Status: OK