Package: ramr Version: 1.0.3 Command: /Library/Frameworks/R.framework/Versions/Current/Resources/bin/R CMD check --install=check:ramr.install-out.txt --library=/Library/Frameworks/R.framework/Versions/Current/Resources/library --no-vignettes --timings ramr_1.0.3.tar.gz StartedAt: 2021-10-14 22:50:19 -0400 (Thu, 14 Oct 2021) EndedAt: 2021-10-14 22:54:45 -0400 (Thu, 14 Oct 2021) EllapsedTime: 266.6 seconds RetCode: 0 Status: OK CheckDir: ramr.Rcheck Warnings: 0