Package: ramr Version: 1.0.3 Command: rm -rf ramr.buildbin-libdir && mkdir ramr.buildbin-libdir && /Users/biocbuild/BBS/utils/build-universal.sh ramr_1.0.3.tar.gz /Library/Frameworks/R.framework/Versions/Current/Resources/bin/R ramr.buildbin-libdir StartedAt: 2021-10-15 03:37:43 -0400 (Fri, 15 Oct 2021) EndedAt: 2021-10-15 03:38:43 -0400 (Fri, 15 Oct 2021) EllapsedTime: 60.5 seconds RetCode: 0 Status: OK PackageFile: ramr_1.0.3.tgz PackageFileSize: 2.754 MiB