Package: rama Version: 1.66.0 Command: /home/biocbuild/bbs-3.13-bioc/R/bin/R CMD check --install=check:rama.install-out.txt --library=/home/biocbuild/bbs-3.13-bioc/R/library --no-vignettes --timings rama_1.66.0.tar.gz StartedAt: 2021-10-14 11:13:22 -0400 (Thu, 14 Oct 2021) EndedAt: 2021-10-14 11:13:42 -0400 (Thu, 14 Oct 2021) EllapsedTime: 19.5 seconds RetCode: 0 Status: WARNINGS CheckDir: rama.Rcheck Warnings: 1