Package: rSWeeP Version: 1.4.0 Command: chmod a+r rSWeeP -R && C:\Users\biocbuild\bbs-3.13-bioc\R\bin\R.exe CMD build --keep-empty-dirs --no-resave-data rSWeeP StartedAt: 2021-10-14 17:49:10 -0400 (Thu, 14 Oct 2021) EndedAt: 2021-10-14 17:50:02 -0400 (Thu, 14 Oct 2021) EllapsedTime: 52.0 seconds RetCode: 0 Status: OK PackageFile: rSWeeP_1.4.0.tar.gz PackageFileSize: 1.825 MiB