Package: rGREAT Version: 1.24.0 Command: chmod a+r rGREAT -R && C:\Users\biocbuild\bbs-3.13-bioc\R\bin\R.exe CMD build --keep-empty-dirs --no-resave-data rGREAT StartedAt: 2021-10-14 17:34:47 -0400 (Thu, 14 Oct 2021) EndedAt: 2021-10-14 17:35:42 -0400 (Thu, 14 Oct 2021) EllapsedTime: 55.0 seconds RetCode: 0 Status: OK PackageFile: rGREAT_1.24.0.tar.gz PackageFileSize: 872.9 KiB