Package: rGADEM Version: 2.40.0 Command: /home/biocbuild/bbs-3.13-bioc/R/bin/R CMD INSTALL rGADEM StartedAt: 2021-10-14 06:24:16 -0400 (Thu, 14 Oct 2021) EndedAt: 2021-10-14 06:24:53 -0400 (Thu, 14 Oct 2021) EllapsedTime: 36.7 seconds RetCode: 0 Status: OK