Package: rGADEM Version: 2.40.0 Command: /home/biocbuild/bbs-3.13-bioc/R/bin/R CMD check --install=check:rGADEM.install-out.txt --library=/home/biocbuild/bbs-3.13-bioc/R/library --no-vignettes --timings rGADEM_2.40.0.tar.gz StartedAt: 2021-10-14 11:18:25 -0400 (Thu, 14 Oct 2021) EndedAt: 2021-10-14 11:21:59 -0400 (Thu, 14 Oct 2021) EllapsedTime: 213.7 seconds RetCode: 0 Status: OK CheckDir: rGADEM.Rcheck Warnings: 0