Package: rGADEM Version: 2.40.0 Command: /Library/Frameworks/R.framework/Versions/Current/Resources/bin/R CMD build --keep-empty-dirs --no-resave-data rGADEM StartedAt: 2021-10-14 14:20:33 -0400 (Thu, 14 Oct 2021) EndedAt: 2021-10-14 14:21:42 -0400 (Thu, 14 Oct 2021) EllapsedTime: 69.1 seconds RetCode: 0 Status: OK PackageFile: rGADEM_2.40.0.tar.gz PackageFileSize: 285.2 KiB