Package: rGADEM Version: 2.40.0 Command: rm -rf rGADEM.buildbin-libdir && mkdir rGADEM.buildbin-libdir && /Users/biocbuild/BBS/utils/build-universal.sh rGADEM_2.40.0.tar.gz /Library/Frameworks/R.framework/Versions/Current/Resources/bin/R rGADEM.buildbin-libdir StartedAt: 2021-10-15 03:43:30 -0400 (Fri, 15 Oct 2021) EndedAt: 2021-10-15 03:44:29 -0400 (Fri, 15 Oct 2021) EllapsedTime: 58.8 seconds RetCode: 0 Status: OK PackageFile: rGADEM_2.40.0.tgz PackageFileSize: 626.2 KiB