Package: rBiopaxParser Version: 2.32.0 Command: /home/biocbuild/bbs-3.13-bioc/R/bin/R CMD INSTALL rBiopaxParser StartedAt: 2021-10-14 06:11:05 -0400 (Thu, 14 Oct 2021) EndedAt: 2021-10-14 06:11:08 -0400 (Thu, 14 Oct 2021) EllapsedTime: 3.0 seconds RetCode: 0 Status: OK