Package: rBiopaxParser Version: 2.32.0 Command: /Library/Frameworks/R.framework/Versions/Current/Resources/bin/R CMD build --keep-empty-dirs --no-resave-data rBiopaxParser StartedAt: 2021-10-14 14:13:50 -0400 (Thu, 14 Oct 2021) EndedAt: 2021-10-14 14:14:06 -0400 (Thu, 14 Oct 2021) EllapsedTime: 16.1 seconds RetCode: 0 Status: OK PackageFile: rBiopaxParser_2.32.0.tar.gz PackageFileSize: 818.7 KiB