git_url: https://git.bioconductor.org/packages/rBiopaxParser git_branch: RELEASE_3_13 git_last_commit: ed5cf40 git_last_commit_date: 2021-05-19 11:57:28 -0400 (Wed, 19 May 2021) Package: rBiopaxParser Version: 2.32.0 Maintainer: Frank Kramer MaintainerEmail: frank.kramer at informatik.uni-augsburg.de