Package: quantro Version: 1.26.0 Command: C:\cygwin\bin\curl.exe -O http://155.52.207.165/BBS/3.13/bioc/src/contrib/quantro_1.26.0.tar.gz && rm -rf quantro.buildbin-libdir && mkdir quantro.buildbin-libdir && C:\Users\biocbuild\bbs-3.13-bioc\R\bin\R.exe CMD INSTALL --merge-multiarch --build --library=quantro.buildbin-libdir quantro_1.26.0.tar.gz && C:\Users\biocbuild\bbs-3.13-bioc\R\bin\R.exe CMD INSTALL quantro_1.26.0.zip && rm quantro_1.26.0.tar.gz quantro_1.26.0.zip StartedAt: 2021-10-14 10:20:26 -0400 (Thu, 14 Oct 2021) EndedAt: 2021-10-14 10:21:39 -0400 (Thu, 14 Oct 2021) EllapsedTime: 73.4 seconds RetCode: 0 Status: OK