Package: qsmooth Version: 1.8.0 Command: C:\Users\biocbuild\bbs-3.13-bioc\R\bin\R.exe CMD check --force-multiarch --install=check:qsmooth.install-out.txt --library=C:\Users\biocbuild\bbs-3.13-bioc\R\library --no-vignettes --timings qsmooth_1.8.0.tar.gz StartedAt: 2021-10-15 03:59:06 -0400 (Fri, 15 Oct 2021) EndedAt: 2021-10-15 04:03:05 -0400 (Fri, 15 Oct 2021) EllapsedTime: 238.6 seconds RetCode: 0 Status: OK CheckDir: qsmooth.Rcheck Warnings: 0