Package: qpcrNorm Version: 1.50.0 Command: /home/biocbuild/bbs-3.13-bioc/R/bin/R CMD build --keep-empty-dirs --no-resave-data qpcrNorm StartedAt: 2021-10-14 08:06:25 -0400 (Thu, 14 Oct 2021) EndedAt: 2021-10-14 08:06:36 -0400 (Thu, 14 Oct 2021) EllapsedTime: 10.9 seconds RetCode: 0 Status: OK PackageFile: qpcrNorm_1.50.0.tar.gz PackageFileSize: 491.4 KiB