Package: pwrEWAS Version: 1.6.0 Command: /Library/Frameworks/R.framework/Versions/Current/Resources/bin/R CMD INSTALL pwrEWAS StartedAt: 2021-10-14 10:26:46 -0400 (Thu, 14 Oct 2021) EndedAt: 2021-10-14 10:27:19 -0400 (Thu, 14 Oct 2021) EllapsedTime: 33.2 seconds RetCode: 0 Status: OK